BEGIN:VCALENDAR
VERSION:2.0
PRODID:-//hacksw/handcal//NONSGML v1.0//EN
BEGIN:VEVENT
DTSTART:20221125T180000
DTEND:20221125T200000
LOCATION:ELTE BTK B épület I. emelet 117. \nMúzeum körút 4. B épület 117-es terem \n1088 Budapest
ORGANIZER;CN=Alumni Központ:MAILTO:reg@alumni.elte.hu
SUMMARY:Nemzetek estjei: Mongólia
DESCRIPTION:Az ELTE Alumni Központ színes, kulturális programokkal, esetenként történelmi, művészeti és utazási beszámolókkal várja az alumnusokat a Nemzetek estjei elnevezésű sorozat újabb alkalmán, melyen most ...
URL:https://www.alumni.elte.hu/hu/event/nemzetek-estjei-mongolia/2022/11/25/997
BEGIN:VALARM
TRIGGER:-P0DT1H0M0S
ACTION:DISPLAY
END:VALARM
END:VEVENT
END:VCALENDAR