BEGIN:VCALENDAR
VERSION:2.0
PRODID:-//hacksw/handcal//NONSGML v1.0//EN
BEGIN:VEVENT
DTSTART:20221115T183000
DTEND:20221115T200000
LOCATION:ELTE BTK Kodály Zoltán Kamaraterem \nMúzeum körút 4/F \n1088 Budapest
ORGANIZER;CN=Alumni Központ:MAILTO:reg@alumni.elte.hu
SUMMARY:ELTE Sikerek Veled: Gyerek – játék
DESCRIPTION:Gyerek – játék címmel a gyermeknevelés, a -fejlesztés és a kreativitás témájával foglalkozik sorozatunk következő alkalma, melyen ELTE Diplomások beszélgetnek friss sikereikről, a hozzá vezető útról, ...
URL:https://www.alumni.elte.hu/hu/event/elte-sikerek-veled-gyerek-jatek/2022/11/15/981
BEGIN:VALARM
TRIGGER:-P0DT1H0M0S
ACTION:DISPLAY
END:VALARM
END:VEVENT
END:VCALENDAR