BEGIN:VCALENDAR
VERSION:2.0
PRODID:-//hacksw/handcal//NONSGML v1.0//EN
BEGIN:VEVENT
DTSTART:20221016T110000
DTEND:20221016T130000
LOCATION:ELTE Füvészkert \nIllés u. 25. \n1083 Budapest
ORGANIZER;CN=Alumni Központ:MAILTO:reg@alumni.elte.hu
SUMMARY:Őszi Füvészkert
DESCRIPTION:Kiss Noémi kertészmérnök tart tematikus szakvezetést az ELTE Füvészkertben 2022. október 16-án 11.00-tól. Az ősz sokak szemében az elmúlás ideje, pedig ilyenkor is varázslatos és élő a természet. A...
URL:https://www.alumni.elte.hu/hu/event/oszi-fuveszkert/2022/10/16/975
BEGIN:VALARM
TRIGGER:-P0DT1H0M0S
ACTION:DISPLAY
END:VALARM
END:VEVENT
END:VCALENDAR