BEGIN:VCALENDAR
VERSION:2.0
PRODID:-//hacksw/handcal//NONSGML v1.0//EN
BEGIN:VEVENT
DTSTART:20220630T180000
DTEND:20220630T200000
LOCATION:https://eotvosloranduniversityhungary.clickmeeting.com/from-win-lose-negotiations-to-win-win-negotiations/register?_ga=2.261827273.55896477.1656060959-1917233786.1655459477
ORGANIZER;CN=Alumni International:MAILTO:international.alumni@elte.hu
SUMMARY:From Win-Lose Negotiations to Win-Win Negotiations
DESCRIPTION:On 30 June (Thursday), at 6:00 PM CET, János Tanács holds the next training session in ELTE’s series called “Life Long Learning”. The training will be held in English.The series is organized by the...
URL:https://www.alumni.elte.hu/hu/event/from-win-lose-negotiations-to-win-win-negotiations/2022/06/30/920
BEGIN:VALARM
TRIGGER:-P0DT1H0M0S
ACTION:DISPLAY
END:VALARM
END:VEVENT
END:VCALENDAR