BEGIN:VCALENDAR
VERSION:2.0
PRODID:-//hacksw/handcal//NONSGML v1.0//EN
BEGIN:VEVENT
DTSTART:20220503T160000
DTEND:20220507T040000
LOCATION:KCSSK \nDayka Gábor utca 4 \n1118 Budapest
ORGANIZER;CN=Alumni Központ:MAILTO:reg@alumni.elte.hu
SUMMARY:Budaörsi Napok - Alumni Kártya kedvezménnyel
DESCRIPTION:A buli folytatódik: két év kihagyás után jön az ELTE legnagyobb kollégiumi fesztiválja, a Budaörsi Napok! A fesztivál 2022. május 3. és 6. között kerül megrendezésre és ami a legjobb, hogy Alumni...
URL:https://www.alumni.elte.hu/hu/event/budaorsi-napok-alumni-kartya-kedvezmennyel/2022/05/03/869
BEGIN:VALARM
TRIGGER:-P0DT1H0M0S
ACTION:DISPLAY
END:VALARM
END:VEVENT
END:VCALENDAR