BEGIN:VCALENDAR
VERSION:2.0
PRODID:-//hacksw/handcal//NONSGML v1.0//EN
BEGIN:VEVENT
DTSTART:20220305T110000
DTEND:20220305T234500
LOCATION:Bem Mozi \nMargit krt. 5. \n1026 Budapest
ORGANIZER;CN=Alumni Központ:MAILTO:reg@alumni.elte.hu
SUMMARY:ELTE Filmnap
DESCRIPTION:Visszatér a Szabad Bölcsészeti és Médiakutatási Intézetek Képviseletének filmmaratonja, az ELTE Filmnap a Bem Moziba.Egy év kihagyás után újra jelentkezik a filmmaraton a Bem Moziban: a középpontban...
URL:https://www.alumni.elte.hu/hu/event/elte-filmnap/2022/03/05/799
BEGIN:VALARM
TRIGGER:-P0DT1H0M0S
ACTION:DISPLAY
END:VALARM
END:VEVENT
END:VCALENDAR