BEGIN:VCALENDAR
VERSION:2.0
PRODID:-//hacksw/handcal//NONSGML v1.0//EN
BEGIN:VEVENT
DTSTART:20220213T110000
DTEND:20220213T130000
LOCATION:ELTE Füvészkert
ORGANIZER;CN=Alumni Központ:MAILTO:reg@alumni.elte.hu
SUMMARY:Trópusi séta a Füvészkertben
DESCRIPTION:A tórpusi növényekről szóló, tematikus sétát tart az ELTE Füvészkertje február 13-án 11 órától. A szakvezetést Kiss Noémi kertészmérnök vezeti.  Mi fán terem a kesudió? Honnan érkezik a kávé? Rengeteg...
URL:https://www.alumni.elte.hu/hu/event/tropusi-seta-a-fuveszkertben/2022/02/13/776
BEGIN:VALARM
TRIGGER:-P0DT1H0M0S
ACTION:DISPLAY
END:VALARM
END:VEVENT
END:VCALENDAR