BEGIN:VCALENDAR
VERSION:2.0
PRODID:-//hacksw/handcal//NONSGML v1.0//EN
BEGIN:VEVENT
DTSTART:20220223T183000
DTEND:20220223T200000
LOCATION:ELTE Aula Magna (1053 Budapest, Egyetem tér 1-3.) \nEgyetem tér 1-3. \n1053 Budapest
ORGANIZER;CN=Alumni Központ:MAILTO:reg@alumni.elte.hu
SUMMARY:ELTE Sikerek: Obádovics J. Gyula
DESCRIPTION:Hírneves, az ELTE falai közül kikerült volt hallgatók beszélnek munkásságukról és jelen törekvéseikről,  ELTE-s kötődéseikről, valamint sikerről, értékekről és karrierépítésről azon az...
URL:https://www.alumni.elte.hu/hu/event/elte-sikerek-obadovics-j-gyula/2022/02/23/764
BEGIN:VALARM
TRIGGER:-P0DT1H0M0S
ACTION:DISPLAY
END:VALARM
END:VEVENT
END:VCALENDAR