BEGIN:VCALENDAR
VERSION:2.0
PRODID:-//hacksw/handcal//NONSGML v1.0//EN
BEGIN:VEVENT
DTSTART:20211202T180000
DTEND:20211202T190000
LOCATION:ELTE TTK Ásványtár \n1/C, Pázmány Péter sétány  \n1117  BUDAPEST
ORGANIZER;CN=Alumni Központ:MAILTO:reg@alumni.elte.hu
SUMMARY:Az Egyetem megnyitja kapuit: Ásványtár
DESCRIPTION:2021. december 2-án az Egyetem megnyitja kapuit programsorozatunk keretében a varázslatos Ásványtárba látogatunk. Tartson velünk Ön is! A tár történelme 1774-ig nyúlik vissza, amikor is megalakult a...
URL:https://www.alumni.elte.hu/hu/event/az-egyetem-megnyitja-kapuit-asvanytar/2021/12/02/751
BEGIN:VALARM
TRIGGER:-P0DT1H0M0S
ACTION:DISPLAY
END:VALARM
END:VEVENT
END:VCALENDAR