BEGIN:VCALENDAR
VERSION:2.0
PRODID:-//hacksw/handcal//NONSGML v1.0//EN
BEGIN:VEVENT
DTSTART:20211210T180000
DTEND:20211210T220000
LOCATION:ELTE BEAC
ORGANIZER;CN=Alumni Központ:MAILTO:reg@alumni.elte.hu
SUMMARY:XII. ELTE Alumni Kupa
DESCRIPTION:Az ELTE Alumni Szervezet és a BEAC immáron 12. alkalommal hívja Alumni tornára egyetemünk volt hallgatóinak kispályás labdarúgó-, és röplabda csapatait a Bogdánfy úti sporttelepre, illetve a...
URL:https://www.alumni.elte.hu/hu/event/xii-elte-alumni-kupa/2021/12/10/744
BEGIN:VALARM
TRIGGER:-P0DT1H0M0S
ACTION:DISPLAY
END:VALARM
END:VEVENT
END:VCALENDAR