BEGIN:VCALENDAR
VERSION:2.0
PRODID:-//hacksw/handcal//NONSGML v1.0//EN
BEGIN:VEVENT
DTSTART:20211029T180000
DTEND:20211029T210000
LOCATION:ELTE Füvészkert \nIllés u. 25. \n1083 Budapest
ORGANIZER;CN=Alumni Központ:MAILTO:reg@alumni.elte.hu
SUMMARY:Halloween a Füvészkertben
DESCRIPTION:Esti séta a növények között. Ismerje meg a növényeket esti megvilágításban. Elemlámpa ajánlott! 2021. október 29.-én pénteken 18.00- 21.00 óra között tematikus szakvezetések indulnak óránként.A...
URL:https://www.alumni.elte.hu/hu/event/halloween-a-fuveszkertben/2021/10/29/723
BEGIN:VALARM
TRIGGER:-P0DT1H0M0S
ACTION:DISPLAY
END:VALARM
END:VEVENT
END:VCALENDAR