BEGIN:VCALENDAR
VERSION:2.0
PRODID:-//hacksw/handcal//NONSGML v1.0//EN
BEGIN:VEVENT
DTSTART:20211109T180000
DTEND:20211109T190000
LOCATION:ELTE Gólyavár
ORGANIZER;CN=Alumni Központ:MAILTO:reg@alumni.elte.hu
SUMMARY:Hogyan tovább? - Időcsapdában
DESCRIPTION:Folytatódik jelenléti formában a Hogyan tovább? előadás-sorozat az ELTE Bölcsészettudományi Kar Gólyavárában. November 9-én 18:00 órától az előadó Limpár Imre tanácsadó szakpszichológus az...
URL:https://www.alumni.elte.hu/hu/event/hogyan-tovabb-idocsapdaban/2021/11/09/721
BEGIN:VALARM
TRIGGER:-P0DT1H0M0S
ACTION:DISPLAY
END:VALARM
END:VEVENT
END:VCALENDAR