BEGIN:VCALENDAR
VERSION:2.0
PRODID:-//hacksw/handcal//NONSGML v1.0//EN
BEGIN:VEVENT
DTSTART:20211009T190000
DTEND:20211009T210500
LOCATION:ELTE Aula Magna \nEgyetem tér 1-3. \n1053 Budapest
ORGANIZER;CN=Alumni Központ:MAILTO:reg@alumni.elte.hu
SUMMARY:Covid fan tutte! - Alumni operaest
DESCRIPTION:2021. október 9-én 19.00 órától Örömzenei operaestet tartunk az ELTE Aula Magnában. Főszervezője Clementis Tamás, operaénekes. Az estet Jakupcsek Gabriella (BTK '90) konferálja. Zongorán kísér:...
URL:https://www.alumni.elte.hu/hu/event/covid-fan-tutte-alumni-operaest/2021/10/09/692
BEGIN:VALARM
TRIGGER:-P0DT1H0M0S
ACTION:DISPLAY
END:VALARM
END:VEVENT
END:VCALENDAR