BEGIN:VCALENDAR
VERSION:2.0
PRODID:-//hacksw/handcal//NONSGML v1.0//EN
BEGIN:VEVENT
DTSTART:20210218T180000
DTEND:20210218T190000
LOCATION:
ORGANIZER;CN=Alumni Központ:MAILTO:reg@alumni.elte.hu
SUMMARY:Egyetem megnyitja kapuit ONLINE: Ásványtár
DESCRIPTION:2021. február 18-án az Egyetem megnyitja kapuit programsorozatunk keretében ismét az Ásványtárba látogatunk - virtuálisan. Tartson velünk Ön is! A tár történelme 1774-ig nyúlik vissza, amikor is...
URL:https://www.alumni.elte.hu/hu/event/egyetem-megnyitja-kapuit-online-asvanytar/2021/02/18/577
BEGIN:VALARM
TRIGGER:-P0DT1H0M0S
ACTION:DISPLAY
END:VALARM
END:VEVENT
END:VCALENDAR