BEGIN:VCALENDAR
VERSION:2.0
PRODID:-//hacksw/handcal//NONSGML v1.0//EN
BEGIN:VEVENT
DTSTART:20210208T120000
DTEND:20210212T203000
LOCATION:
ORGANIZER;CN=Alumni Központ:MAILTO:reg@alumni.elte.hu
SUMMARY:Tavaszi Sport7
DESCRIPTION:Fitten indulhat az új év: a BEAC online nyílt hetén az aerobik-, jóga-, erőnléti és polefitnessedzéseket próbálhatjuk ki térítésmentesen 2021.február 08-12. között.Az elmúlt évek hagyományát...
URL:https://www.alumni.elte.hu/hu/event/tavaszi-sport7/2021/02/08/576
BEGIN:VALARM
TRIGGER:-P0DT1H0M0S
ACTION:DISPLAY
END:VALARM
END:VEVENT
END:VCALENDAR