BEGIN:VCALENDAR
VERSION:2.0
PRODID:-//hacksw/handcal//NONSGML v1.0//EN
BEGIN:VEVENT
DTSTART:20210611T160000
DTEND:20210611T210500
LOCATION:ELTE BEAC Pluhár István Labdarugópálya \nMérnök u. 35. \n1119 Budapest
ORGANIZER;CN=Alumni Központ:MAILTO:reg@alumni.elte.hu
SUMMARY:XI. ELTE Alumni Kupa
DESCRIPTION:Az ELTE Alumni Szervezet és a BEAC immáron 11. alkalommal hívja Alumni tornára az ELTE volt hallgatóinak kispályás labdarúgó csapatait. Ideje megkezdeni a csapatépítést! Jelige: Mindenki labdába...
URL:https://www.alumni.elte.hu/hu/event/xi-elte-alumni-kupa/2021/06/11/550
BEGIN:VALARM
TRIGGER:-P0DT1H0M0S
ACTION:DISPLAY
END:VALARM
END:VEVENT
END:VCALENDAR