BEGIN:VCALENDAR
VERSION:2.0
PRODID:-//hacksw/handcal//NONSGML v1.0//EN
BEGIN:VEVENT
DTSTART:20200904T100000
DTEND:20200905T180000
LOCATION:https://www.facebook.com/events/991545834635631/
ORGANIZER;CN=PPK Alumni Koordinátor - PPK Alumni Tagozat:MAILTO:alumni@ppk.elte.hu
SUMMARY:ÚtOn 2020 online konferencia
DESCRIPTION:REGISZTRÁCIÓ\nAz ELTE PPK Interkulturális Pszichológia és Pedagógia Intézetének végzett hallgatói online alumni konferenciát szerveznek magyar és angol nyelven. A konferencia előadásai, workshopjai és...
URL:https://www.alumni.elte.hu/hu/group/ppk-alumni-tagozat/29/calendar/uton-2020-online-konferencia/2020/09/04/470
BEGIN:VALARM
TRIGGER:-P0DT1H0M0S
ACTION:DISPLAY
END:VALARM
END:VEVENT
END:VCALENDAR