BEGIN:VCALENDAR
VERSION:2.0
PRODID:-//hacksw/handcal//NONSGML v1.0//EN
BEGIN:VEVENT
DTSTART:20200507T190000
DTEND:20200507T203000
LOCATION:Online
ORGANIZER;CN=Alumni Központ:MAILTO:reg@alumni.elte.hu
SUMMARY:(Ön)bizalmatlanságunk nyomában 4/4
DESCRIPTION:“Önbizalmatlanság”, így hívja Limpár Imre tanácsadó szakpszichológus az önbizalom-hiányos állapotainkat. Sokan, sokszor és sok helyütt beszéltek már az önbizalomról – lerágott csont, gondolhatjuk –;...
URL:https://www.alumni.elte.hu/hu/event/-on-bizalmatlansagunk-nyomaban-4-4/2020/05/07/439
BEGIN:VALARM
TRIGGER:-P0DT1H0M0S
ACTION:DISPLAY
END:VALARM
END:VEVENT
END:VCALENDAR