BEGIN:VCALENDAR
VERSION:2.0
PRODID:-//hacksw/handcal//NONSGML v1.0//EN
BEGIN:VEVENT
DTSTART:20200305T180000
DTEND:20200305T200000
LOCATION:ELTE ÁJK (1053 Budapest, Egyetem tér 1-3.) \nELTE ÁJK (1053 Budapest, Egyetem tér 1-3.) \n1053 Budapest
ORGANIZER;CN=Alumni Központ:MAILTO:reg@alumni.elte.hu
SUMMARY:Egyetem megnyitja kapuit: Főépület
DESCRIPTION:Az Egyetem tér 1–3. neoreneszánsz palotája a pesti belváros egyik ékköve. Egyetem megnyitja kapuit sorozatunk következő alkalmán ide kalauzolja az érdeklődőket az ELTE Alumni. A sétát vezeti dr....
URL:https://www.alumni.elte.hu/hu/event/egyetem-megnyitja-kapuit-foepulet/2020/03/05/411
BEGIN:VALARM
TRIGGER:-P0DT1H0M0S
ACTION:DISPLAY
END:VALARM
END:VEVENT
END:VCALENDAR