BEGIN:VCALENDAR
VERSION:2.0
PRODID:-//hacksw/handcal//NONSGML v1.0//EN
BEGIN:VEVENT
DTSTART:20200305T160000
DTEND:20200305T180000
LOCATION:ELTE Bárczi Gusztáv Gyógypedagógiai Kar \nEcseri út 3. \n1097 BUDAPEST
ORGANIZER;CN=Magdolna Bebtó - Bárczi Alumni Tagozat:MAILTO:bebto.magdolna@barczi.elte.hu
SUMMARY:Bárczi Gyógytea beszélgetés sorozat
DESCRIPTION:
URL:https://www.alumni.elte.hu/hu/group/barczi-alumni-tagozat/32/calendar/barczi-gyogytea-beszelgetes-sorozat/2020/03/05/409
BEGIN:VALARM
TRIGGER:-P0DT1H0M0S
ACTION:DISPLAY
END:VALARM
END:VEVENT
END:VCALENDAR