BEGIN:VCALENDAR
VERSION:2.0
PRODID:-//hacksw/handcal//NONSGML v1.0//EN
BEGIN:VEVENT
DTSTART:20200206T170000
DTEND:20200206T190000
LOCATION:ELTE TTK Eötvös terem  \nPázmány Péter sétány 1/A, 0.83. \n1117 Budapest
ORGANIZER;CN=Alumni Központ:MAILTO:reg@alumni.elte.hu
SUMMARY:Kristályvirágok számítógépben
DESCRIPTION:Gránásy László fizikus előadásával folytatódik "Az atomoktól a csillagokig" sorozat a Természettudományi Karon.A természetben és a laboratóriumban látványos polikristályos alakzatok figyelhetők meg:...
URL:https://www.alumni.elte.hu/hu/event/kristalyviragok-szamitogepben/2020/02/06/393
BEGIN:VALARM
TRIGGER:-P0DT1H0M0S
ACTION:DISPLAY
END:VALARM
END:VEVENT
END:VCALENDAR