BEGIN:VCALENDAR
VERSION:2.0
PRODID:-//hacksw/handcal//NONSGML v1.0//EN
BEGIN:VEVENT
DTSTART:20191021T190000
DTEND:20191021T210000
LOCATION:ELTE ÁJK, Aula Magna díszterem \n1, Egyetem tér \n1053 BUDAPEST
ORGANIZER;CN=Bölcsészettudományi Kar ELTE:MAILTO:kommunikacio@btk.elte.hu
SUMMARY:Konfuciusz-gála
DESCRIPTION:Az ELTE Konfuciusz Intézet idén is megtartja gálaműsorát a kínai kultúra iránt érdeklődőknek.Az este folyamán a Pekingi Táncművészeti Egyetem és a Kínai Nemzeti Akrobata Szövetség tánc- és...
URL:https://www.alumni.elte.hu/hu/event/konfuciusz-gala/2019/10/21/268
BEGIN:VALARM
TRIGGER:-P0DT1H0M0S
ACTION:DISPLAY
END:VALARM
END:VEVENT
END:VCALENDAR