BEGIN:VCALENDAR
VERSION:2.0
PRODID:-//hacksw/handcal//NONSGML v1.0//EN
BEGIN:VEVENT
DTSTART:20191018T100000
DTEND:20191018T160000
LOCATION:ELTE ÁJK Aula Magna \n1-3, Egyetem tér \n1053 BUDAPEST
ORGANIZER;CN=Alumni Központ:MAILTO:reg@alumni.elte.hu
SUMMARY:TEDxELTE Konferencia
DESCRIPTION:Sikeres szakemberek és egyetemi hallgatók tartanak inspiráló előadásokat a Társadalomtudományi Kar szervezésében.10% kedvezmény Alumni Kártyával rendelkezőknek! A népszerű TED konferenciák rövidebb...
URL:https://www.alumni.elte.hu/hu/event/tedxelte-konferencia/2019/10/18/262
BEGIN:VALARM
TRIGGER:-P0DT1H0M0S
ACTION:DISPLAY
END:VALARM
END:VEVENT
END:VCALENDAR