BEGIN:VCALENDAR
VERSION:2.0
PRODID:-//hacksw/handcal//NONSGML v1.0//EN
BEGIN:VEVENT
DTSTART:20191004T180000
DTEND:20191004T200000
LOCATION:ELTE Egyetemi Könyvtár és Levéltár Nagyolvasó  \n6, Ferenciek tere \n1053 BUDAPEST
ORGANIZER;CN=Alumni Központ:MAILTO:reg@alumni.elte.hu
SUMMARY:ELTE Múltidéző - Generációk, emlékek '85-'91 (+/- pár év)
DESCRIPTION:\nAz ELTE Múltidéző pódiumbeszélgetéseken az Egyetem azonos időszakban végzett diplomásai vesznek részt – kari hovatartozástól függetlenül. A péntek esti beszélgetések során a résztvevők a pódiumon...
URL:https://www.alumni.elte.hu/hu/event/elte-multidezo-generaciok-emlekek-85-91-par-ev/2019/10/04/209
BEGIN:VALARM
TRIGGER:-P0DT1H0M0S
ACTION:DISPLAY
END:VALARM
END:VEVENT
END:VCALENDAR