BEGIN:VCALENDAR
VERSION:2.0
PRODID:-//hacksw/handcal//NONSGML v1.0//EN
BEGIN:VEVENT
DTSTART:20190507T100000
DTEND:20190509T190000
LOCATION:ELTE BTK Trefort-kert  \nMúzeum krt. 4/A \n1088  Budapest
ORGANIZER;CN=Alumni Központ:MAILTO:reg@alumni.elte.hu
SUMMARY:Bölcsész Napok 2019
DESCRIPTION:Az ELTE BTK HÖK tudományos-kulturális fesztiválján 2019. május 7. és 9. között változatos programok várják a résztvevőket a Trefort-kertben.  \nAz ELTE BTK kulturális minifesztiválja idén is...
URL:https://www.alumni.elte.hu/hu/event/bolcsesz-napok-2019/2019/05/07/180
BEGIN:VALARM
TRIGGER:-P0DT1H0M0S
ACTION:DISPLAY
END:VALARM
END:VEVENT
END:VCALENDAR