BEGIN:VCALENDAR
VERSION:2.0
PRODID:-//hacksw/handcal//NONSGML v1.0//EN
BEGIN:VEVENT
DTSTART:20190518T190000
DTEND:20190518T203000
LOCATION:ELTE Aula Magna \nEgyetem tér 1–3. \n1053 Budapest
ORGANIZER;CN=Alumni Központ:MAILTO:reg@alumni.elte.hu
SUMMARY:Pánczél Éva ünnepi est
DESCRIPTION:A Magyar Operaház énekese mellett barátai is fellépnek azon az Operaesten, melyet Pánczél Éva operai jubileumának tiszteletére szerveznek az Aula Magnába.Idén is megrendezésre kerül az évek óta...
URL:https://www.alumni.elte.hu/hu/event/panczel-eva-unnepi-est/2019/05/18/172
BEGIN:VALARM
TRIGGER:-P0DT1H0M0S
ACTION:DISPLAY
END:VALARM
END:VEVENT
END:VCALENDAR