BEGIN:VCALENDAR
VERSION:2.0
PRODID:-//hacksw/handcal//NONSGML v1.0//EN
BEGIN:VEVENT
DTSTART:20251209T180000
DTEND:20251209T193000
LOCATION:Tüskecsarnok
ORGANIZER;CN=ELTE Alumni:MAILTO:reg@alumni.elte.hu
SUMMARY:Mikulás napi aerobik party
DESCRIPTION:A BEAC piros dress code-os ingyenes ünnepi edzéssel várja a mozgás szerelmeseit.Idén a Mikulás igazán energikus és ünnepi hangulatú programmal látogat el a BEAC Aerobik közösségéhez! A 90 perces...
URL:https://www.alumni.elte.hu/hu/event/mikulas-napi-aerobik-party/2025/12/09/1672
BEGIN:VALARM
TRIGGER:-P0DT1H0M0S
ACTION:DISPLAY
END:VALARM
END:VEVENT
END:VCALENDAR