BEGIN:VCALENDAR
VERSION:2.0
PRODID:-//hacksw/handcal//NONSGML v1.0//EN
BEGIN:VEVENT
DTSTART:20190406T090000
DTEND:20190407T170000
LOCATION:ELTE Füvészkert  \nIllés utca 25. \n1083 Budapest
ORGANIZER;CN=Alumni Központ:MAILTO:reg@alumni.elte.hu
SUMMARY:Cseresznyevirágzás
DESCRIPTION:Harcművészeti bemutató, kendőkötés és élményfestés is várja a látogatókat az ELTE Füvészkertben április első hétvégéjén. Nyitvatartás: 09:00–17:00.Az ELTE Füvészkert hagyományos tavaszi rendezvénye a ...
URL:https://www.alumni.elte.hu/hu/event/cseresznyeviragzas/2019/04/06/165
BEGIN:VALARM
TRIGGER:-P0DT1H0M0S
ACTION:DISPLAY
END:VALARM
END:VEVENT
END:VCALENDAR