BEGIN:VCALENDAR
VERSION:2.0
PRODID:-//hacksw/handcal//NONSGML v1.0//EN
BEGIN:VEVENT
DTSTART:20251011T140000
DTEND:20251011T163000
LOCATION:ELTE Konfuciusz Intézet (ELTE BTK F épület) \nMúzeum körút 4/F. \n1088 Budapest
ORGANIZER;CN=ELTE Alumni:MAILTO:reg@alumni.elte.hu
SUMMARY:Konfuciusz Nap az ELTE-n
DESCRIPTION:Konfuciusz Napot rendez az ELTE Konfuciusz Intézet 2025. október 11-én, melyre változatos programokkal várja a kínai kultúra iránt érdeklődőket.Az idei évben is színes programokkal várja a Konfuciusz ...
URL:https://www.alumni.elte.hu/hu/event/konfuciusz-nap-az-elte-n/2025/10/11/1627
BEGIN:VALARM
TRIGGER:-P0DT1H0M0S
ACTION:DISPLAY
END:VALARM
END:VEVENT
END:VCALENDAR