BEGIN:VCALENDAR
VERSION:2.0
PRODID:-//hacksw/handcal//NONSGML v1.0//EN
BEGIN:VEVENT
DTSTART:20251010T180000
DTEND:20251010T200000
LOCATION:ELTE BTK Kari Tanácsterem \nMúzeum körút 4/A, fszt. 39. \n1088 Budapest
ORGANIZER;CN=ELTE Alumni:MAILTO:reg@alumni.elte.hu
SUMMARY:Nemzetek estjei: India
DESCRIPTION:Nemzetek estjei sorozatunk keretében minden alkalommal egy új ország kultúrájába nyújtunk betekintést előadások, élménybeszámolók és esetenként különböző aktivitások révén. Most India következik! Az...
URL:https://www.alumni.elte.hu/hu/event/nemzetek-estjei-india/2025/10/10/1603
BEGIN:VALARM
TRIGGER:-P0DT1H0M0S
ACTION:DISPLAY
END:VALARM
END:VEVENT
END:VCALENDAR