BEGIN:VCALENDAR
VERSION:2.0
PRODID:-//hacksw/handcal//NONSGML v1.0//EN
BEGIN:VEVENT
DTSTART:20180905T170000
DTEND:20180905T183000
LOCATION:ELTE Konfuciusz Intézet, Kodály terem \n4, Múzeum körút \n1088 BUDAPEST
ORGANIZER;CN=Alumni Központ:MAILTO:reg@alumni.elte.hu
SUMMARY:Tájképfestészet előadás és kiállításmegnyitó
DESCRIPTION:Az ezerarcú Kína sorozat keretében szeptember 5.-én a tájképfestészet szépségeiről tartanak előadást  és egyben kiállításmegnyitót is az ELTE Konfuciusz Intézetében. A shanshui (山水) a hagyományos...
URL:https://www.alumni.elte.hu/hu/event/tajkepfesteszet-eloadas-es-kiallitasmegnyito/2018/09/05/16
BEGIN:VALARM
TRIGGER:-P0DT1H0M0S
ACTION:DISPLAY
END:VALARM
END:VEVENT
END:VCALENDAR