BEGIN:VCALENDAR
VERSION:2.0
PRODID:-//hacksw/handcal//NONSGML v1.0//EN
BEGIN:VEVENT
DTSTART:20250516T170000
DTEND:20250516T183000
LOCATION:ELTE BTK Kari Tanácsterem (A épület fszt. 39.) \nMúzeum körút 4. \n1088 Budapest
ORGANIZER;CN=Bölcsészettudományi Kar ELTE - BTK Alumni Tagozat:MAILTO:kommunikacio@btk.elte.hu
SUMMARY:Dante és az ókor
DESCRIPTION:Nádasdy Ádám tart előadást az Ókortudományi Társaság éves közgyűlésén.Az eseményen sor kerül az Ábel Jenő Országos Latin Tanulmányi Verseny eredményhirdetésére és a Társaság díjainak átadására is.Az...
URL:https://www.alumni.elte.hu/hu/group/btk-alumni-tagozat/30/calendar/dante-es-az-okor/2025/05/16/1563
BEGIN:VALARM
TRIGGER:-P0DT1H0M0S
ACTION:DISPLAY
END:VALARM
END:VEVENT
END:VCALENDAR