BEGIN:VCALENDAR
VERSION:2.0
PRODID:-//hacksw/handcal//NONSGML v1.0//EN
BEGIN:VEVENT
DTSTART:20250605T170000
DTEND:20250605T200000
LOCATION:General Consulate of Hungary, München \nMauerkircherstrasse 1A. \n81679 München
ORGANIZER;CN=Alumni International - International Alumni Chapter:MAILTO:international.alumni@elte.hu
SUMMARY:Mesterséges Intelligencia és ELTE Alumni Találkozó, München
DESCRIPTION:Kedves ELTE Alumni tagok!Örömmel jelentjük be, hogy az Eötvös Loránd Tudományegyetem (ELTE) Magyarország Müncheni Főkonzulátusával együttműködve 2025. június 5-én megrendezi a „Fókuszban a mesterséges...
URL:https://www.alumni.elte.hu/hu/group/international-alumni-chapter/105/calendar/mesterseges-intelligencia-es-elte-alumni-talalkozo-munchen/2025/06/05/1551
BEGIN:VALARM
TRIGGER:-P0DT1H0M0S
ACTION:DISPLAY
END:VALARM
END:VEVENT
END:VCALENDAR