BEGIN:VCALENDAR
VERSION:2.0
PRODID:-//hacksw/handcal//NONSGML v1.0//EN
BEGIN:VEVENT
DTSTART:20250509T180000
DTEND:20250509T200000
LOCATION:ELTE Aula Magna \nEgyetem tér 1-3. \n1053 Budapest
ORGANIZER;CN=Alumni Központ:MAILTO:reg@alumni.elte.hu
SUMMARY:Koncert és táncelőadás
DESCRIPTION:Az ELTE Eötvös Művészeti Együttes műsora a Pázmány-napi ünnepség keretében.\nAz ELTE Szenátusa minden év májusában ünnepi közgyűlés tart az Egyetem Pázmány Péter általi, 1635-ös alapítására emlékezve....
URL:https://www.alumni.elte.hu/hu/event/koncert-es-tanceloadas/2025/05/09/1546
BEGIN:VALARM
TRIGGER:-P0DT1H0M0S
ACTION:DISPLAY
END:VALARM
END:VEVENT
END:VCALENDAR