BEGIN:VCALENDAR
VERSION:2.0
PRODID:-//hacksw/handcal//NONSGML v1.0//EN
BEGIN:VEVENT
DTSTART:20250430T200000
DTEND:20250430T210000
LOCATION:Avilai Nagy Szent Teréz Plébániatemplom \nSzent Teréz u. 2. \n1065 Budapest
ORGANIZER;CN=Alumni Központ:MAILTO:reg@alumni.elte.hu
SUMMARY:Mozart: Requiem
DESCRIPTION:Az ELTE Bartók Béla Énekkar, az ELTE Egyetemi Koncertzenekar és a Nijmeegs Studentenkoor Alphons Diepenbroks közös koncertje.A Hollandiából érkező vendégénekkarral közös koncerten Kristófi...
URL:https://www.alumni.elte.hu/hu/event/mozart-requiem/2025/04/30/1545
BEGIN:VALARM
TRIGGER:-P0DT1H0M0S
ACTION:DISPLAY
END:VALARM
END:VEVENT
END:VCALENDAR