BEGIN:VCALENDAR
VERSION:2.0
PRODID:-//hacksw/handcal//NONSGML v1.0//EN
BEGIN:VEVENT
DTSTART:20250210T090000
DTEND:20250214T190000
LOCATION:ELTE BEAC \n10./B, Bogdánfy Ödön utca \n1117 BUDAPEST
ORGANIZER;CN=Alumni Központ:MAILTO:reg@alumni.elte.hu
SUMMARY:ELTE Sport7 2025 tavasz
DESCRIPTION:Ingyenes évkezdő sporthetet tart a BEAC - ELTE Diplomásoknak is - 2025. február 10-14. között. Próbáljon ki közel 50 sportágat teljesen INGYEN február 10-14. között a BEAC-on és még számos...
URL:https://www.alumni.elte.hu/hu/event/elte-sport7-2025-tavasz/2025/02/10/1424
BEGIN:VALARM
TRIGGER:-P0DT1H0M0S
ACTION:DISPLAY
END:VALARM
END:VEVENT
END:VCALENDAR