BEGIN:VCALENDAR
VERSION:2.0
PRODID:-//hacksw/handcal//NONSGML v1.0//EN
BEGIN:VEVENT
DTSTART:20240613T140000
DTEND:20240613T160000
LOCATION:
ORGANIZER;CN=Alumni International - International Alumni Chapter:MAILTO:international.alumni@elte.hu
SUMMARY:Successful entrepreneur, creative intrapreneur, or passionate changemaker?
DESCRIPTION:We are inviting you to a workshop with the ELTE Alumni Academy. Sign up for an interactive online workshop about entrepreneurship and how to be more successfil in your field.Date and time: 13...
URL:https://www.alumni.elte.hu/hu/group/international-alumni-chapter/105/calendar/successful-entrepreneur-creative-intrapreneur-or-passionate-changemaker/2024/06/13/1278
BEGIN:VALARM
TRIGGER:-P0DT1H0M0S
ACTION:DISPLAY
END:VALARM
END:VEVENT
END:VCALENDAR