BEGIN:VCALENDAR
VERSION:2.0
PRODID:-//hacksw/handcal//NONSGML v1.0//EN
BEGIN:VEVENT
DTSTART:20231129T130000
DTEND:20231129T190000
LOCATION:ELTE Lágymányosi Campus - Harmónia Terem
ORGANIZER;CN=Alumni Központ:MAILTO:reg@alumni.elte.hu
SUMMARY:ELTE Innovációs Nap 2023
DESCRIPTION:„Egészség testben és lélekben” mottóval mutatkoznak be az egyetem egészséggel kapcsolatos fejlesztései 2023. november 29-én.Az ELTE hosszú évek óta zajló innovációs rendezvényének célja az egyetemen...
URL:https://www.alumni.elte.hu/hu/event/elte-innovacios-nap-2023/2023/11/29/1202
BEGIN:VALARM
TRIGGER:-P0DT1H0M0S
ACTION:DISPLAY
END:VALARM
END:VEVENT
END:VCALENDAR