BEGIN:VCALENDAR
VERSION:2.0
PRODID:-//hacksw/handcal//NONSGML v1.0//EN
BEGIN:VEVENT
DTSTART:20231020T170000
DTEND:20240303T210000
LOCATION:ELTE Füvészkert
ORGANIZER;CN=Alumni Központ:MAILTO:reg@alumni.elte.hu
SUMMARY:Fényjáték a Füvészkertben
DESCRIPTION:A Garden of Lights multimédia-kiállítás negyven attrakciója 2023. október 20-tól 2024. március 3-ig várja a látogatókat az ELTE Füvészkertben.\nEzen a télen sötétedés után valódi csodavilág nyílik a...
URL:https://www.alumni.elte.hu/hu/event/fenyjatek-a-fuveszkertben/2023/10/20/1179
BEGIN:VALARM
TRIGGER:-P0DT1H0M0S
ACTION:DISPLAY
END:VALARM
END:VEVENT
END:VCALENDAR