BEGIN:VCALENDAR
VERSION:2.0
PRODID:-//hacksw/handcal//NONSGML v1.0//EN
BEGIN:VEVENT
DTSTART:20230930T190000
DTEND:20230930T203000
LOCATION:ELTE Aula Magna \nEgyetem tér 1-3. I. em. \n1053 Budapest
ORGANIZER;CN=Alumni Központ:MAILTO:reg@alumni.elte.hu
SUMMARY:Kóruskoncert
DESCRIPTION:Közös műsorral lép fel a a Stuttgarti Egyetem Akadémiai Kórusa és az ELTE Bartók Béla Énekkar, melynek tagjai valamennyien az Egyetem volt hallgatói.A műsoron Johann Ludwig Bach, Felix Mendelssohn,...
URL:https://www.alumni.elte.hu/hu/event/koruskoncert/2023/09/30/1164
BEGIN:VALARM
TRIGGER:-P0DT1H0M0S
ACTION:DISPLAY
END:VALARM
END:VEVENT
END:VCALENDAR