BEGIN:VCALENDAR
VERSION:2.0
PRODID:-//hacksw/handcal//NONSGML v1.0//EN
BEGIN:VEVENT
DTSTART:20230923T090000
DTEND:20230923T150000
LOCATION:Budapest
ORGANIZER;CN=Alumni Központ:MAILTO:reg@alumni.elte.hu
SUMMARY:BeActive Day a BEAC-cal! - ingyenes edzések
DESCRIPTION:Ingyenes focikupával és edzésekkel várnak minden mozogni vágyót a BEAC edzői szeptember 23-án Budapesten! Aerial hoop, aerial hammock&silk, polefitness:Időpont: 2023.09.23. | 12:00-15:00\nHelyszín:...
URL:https://www.alumni.elte.hu/hu/event/beactive-day-a-beac-cal-ingyenes-edzesek/2023/09/23/1161
BEGIN:VALARM
TRIGGER:-P0DT1H0M0S
ACTION:DISPLAY
END:VALARM
END:VEVENT
END:VCALENDAR