BEGIN:VCALENDAR
VERSION:2.0
PRODID:-//hacksw/handcal//NONSGML v1.0//EN
BEGIN:VEVENT
DTSTART:20230911T090000
DTEND:20230915T170000
LOCATION:ELTE BEAC \n10./B, Bogdánfy Ödön utca \n1117 BUDAPEST
ORGANIZER;CN=Alumni Központ:MAILTO:reg@alumni.elte.hu
SUMMARY:ELTE Sport7 2023
DESCRIPTION:Tanévkezdő sporthetet tart a BEAC - ELTE Diplomásoknak is - 2023. szeptember 11-15. között. Próbáljon ki közel 40 sportágat teljesen INGYEN szeptember 11-15. között a BEAC-on és még számos...
URL:https://www.alumni.elte.hu/hu/event/elte-sport7-2023/2023/09/11/1147
BEGIN:VALARM
TRIGGER:-P0DT1H0M0S
ACTION:DISPLAY
END:VALARM
END:VEVENT
END:VCALENDAR