BEGIN:VCALENDAR
VERSION:2.0
PRODID:-//hacksw/handcal//NONSGML v1.0//EN
BEGIN:VEVENT
DTSTART:20230927T180000
DTEND:20230927T193000
LOCATION:ELTE ÁJK \n1, Egyetem tér \n1053 BUDAPEST
ORGANIZER;CN=Alumni Központ:MAILTO:reg@alumni.elte.hu
SUMMARY:Az Egyetem megnyitja kapuit - Főépület
DESCRIPTION:Az Egyetem tér 1–3. neoreneszánsz palotája a pesti belváros egyik ékköve: 2023. szeptember 27-én, "Az Egyetem megnyitja kapuit" sorozat következő alkalmán ide kalauzolja az érdeklődőket az ELTE...
URL:https://www.alumni.elte.hu/hu/event/az-egyetem-megnyitja-kapuit-foepulet/2023/09/27/1143
BEGIN:VALARM
TRIGGER:-P0DT1H0M0S
ACTION:DISPLAY
END:VALARM
END:VEVENT
END:VCALENDAR