BEGIN:VCALENDAR
VERSION:2.0
PRODID:-//hacksw/handcal//NONSGML v1.0//EN
BEGIN:VEVENT
DTSTART:20230920T170500
DTEND:20230920T180500
LOCATION:ELTE Lágymányos \n1, Pázmány Péter sétány \n1117 BUDAPEST
ORGANIZER;CN=Alumni Központ:MAILTO:reg@alumni.elte.hu
SUMMARY:44. 5vös 5km Futóverseny
DESCRIPTION:2023. szeptember 20-án 44. alkalommal rajtol el a Lágymányosi Campus ikonikus sporteseménye. Induljon ELTE Alumni kategóriában!A futóversenyre idén is várjuk az ELTE volt hallgatóit. Az ELTE Alumni...
URL:https://www.alumni.elte.hu/hu/event/44-5vos-5km-futoverseny/2023/09/20/1142
BEGIN:VALARM
TRIGGER:-P0DT1H0M0S
ACTION:DISPLAY
END:VALARM
END:VEVENT
END:VCALENDAR