BEGIN:VCALENDAR
VERSION:2.0
PRODID:-//hacksw/handcal//NONSGML v1.0//EN
BEGIN:VEVENT
DTSTART:20230729T120000
DTEND:20230729T170000
LOCATION:Dobogókő
ORGANIZER;CN=Alumni Központ:MAILTO:reg@alumni.elte.hu
SUMMARY:Eötvös 175 emléktúra
DESCRIPTION:A Magyar Turista Egyesület Eötvös 175 megemlékezését Dobogókőn, a Báró Eötvös Loránd Menedékházban 2023. július 29-én 12 órakor tartja.\nÉrkezés: 12 óráig. Az MTE osztályainak számos tagja...
URL:https://www.alumni.elte.hu/hu/event/eotvos-175-emlektura/2023/07/29/1141
BEGIN:VALARM
TRIGGER:-P0DT1H0M0S
ACTION:DISPLAY
END:VALARM
END:VEVENT
END:VCALENDAR