BEGIN:VCALENDAR
VERSION:2.0
PRODID:-//hacksw/handcal//NONSGML v1.0//EN
BEGIN:VEVENT
DTSTART:20230608T170000
DTEND:20230705T180000
LOCATION:ELTE Füvészkert \n25, Illés utca \n1083 BUDAPEST
ORGANIZER;CN=Alumni Központ:MAILTO:reg@alumni.elte.hu
SUMMARY:BEAC jógaórák a Füvészkertben
DESCRIPTION:Testi-lelki feltöltődés a BEAC exkluzív jógaóráin Magyarország legrégebbi botanikus kertjében, ELTE Diplomásoknak kedvezményes jegy- és bérletárakkal. Június 8-tól igazán pihentető, madárcsicsergős...
URL:https://www.alumni.elte.hu/hu/event/beac-jogaorak-a-fuveszkertben/2023/06/08/1128
BEGIN:VALARM
TRIGGER:-P0DT1H0M0S
ACTION:DISPLAY
END:VALARM
END:VEVENT
END:VCALENDAR