BEGIN:VCALENDAR
VERSION:2.0
PRODID:-//hacksw/handcal//NONSGML v1.0//EN
BEGIN:VEVENT
DTSTART:20230605T180000
DTEND:20230605T190000
LOCATION:BEAC csarnok \n10, Bogdánfy utca \n1117 BUDAPEST
ORGANIZER;CN=Alumni Központ:MAILTO:reg@alumni.elte.hu
SUMMARY:Summer Love aerobik nyárindító edzés
DESCRIPTION:Ingyenes, pörgős, nyárindótó edzéssel vár mindenkit a BEAC Aerobik szakosztálya június 5-én 18:00-tól.Az edzés helyszíne az újonnan felújított Bogdánfy úti BEAC sportcsarnok. Gyere el, és ha tetszett ...
URL:https://www.alumni.elte.hu/hu/event/summer-love-aerobik-nyarindito-edzes/2023/06/05/1123
BEGIN:VALARM
TRIGGER:-P0DT1H0M0S
ACTION:DISPLAY
END:VALARM
END:VEVENT
END:VCALENDAR