BEGIN:VCALENDAR
VERSION:2.0
PRODID:-//hacksw/handcal//NONSGML v1.0//EN
BEGIN:VEVENT
DTSTART:20181205T180000
DTEND:20181205T200000
LOCATION:ELTE BTK Kodály terem \n4, Múzeum körút \n1088 BUDAPEST
ORGANIZER;CN=Alumni Központ:MAILTO:reg@alumni.elte.hu
SUMMARY:Adventi hangverseny
DESCRIPTION:Az Eötvös Loránd Tudományegyetem Bölcsészettudományi Kar Zenei Tanszéke hangversenyt rendez a Trefort-kertben.A koncerten közreműködik a Zenei Tanszék hallgatóiból álló nőikar és vegyeskar, valamint a...
URL:https://www.alumni.elte.hu/hu/event/adventi-hangverseny/2018/12/05/112
BEGIN:VALARM
TRIGGER:-P0DT1H0M0S
ACTION:DISPLAY
END:VALARM
END:VEVENT
END:VCALENDAR