BEGIN:VCALENDAR
VERSION:2.0
PRODID:-//hacksw/handcal//NONSGML v1.0//EN
BEGIN:VEVENT
DTSTART:20230519T180000
DTEND:20230519T200000
LOCATION:ELTE BTK F épület alagsor Sauvageot-terem \nMúzeum körút 4. F épület alagsor Sauvageot-terem \n1088 Budapest
ORGANIZER;CN=Alumni Központ:MAILTO:reg@alumni.elte.hu
SUMMARY:Nemzetek estjei: Spanyolország
DESCRIPTION:Az ELTE Alumni Központ színes, kulturális programokkal, történelmi, művészeti és utazási beszámolókkal várja az alumnusokat a Nemzetek estjei elnevezésű sorozat keretében. Most Spanyolország...
URL:https://www.alumni.elte.hu/hu/event/nemzetek-estjei-spanyolorszag/2023/05/19/1093
BEGIN:VALARM
TRIGGER:-P0DT1H0M0S
ACTION:DISPLAY
END:VALARM
END:VEVENT
END:VCALENDAR