BEGIN:VCALENDAR
VERSION:2.0
PRODID:-//hacksw/handcal//NONSGML v1.0//EN
BEGIN:VEVENT
DTSTART:20230524T183000
DTEND:20230524T200000
LOCATION:ELTE Aula Magna \nEgyetem tér 1-3. \n1053 Budapest
ORGANIZER;CN=Alumni Központ:MAILTO:reg@alumni.elte.hu
SUMMARY:ELTE Sikerek: Juhász Árpád
DESCRIPTION:Az Egyetem hírneves volt hallgatói beszélnek munkásságukról és jelen törekvéseikről, ELTE-s kötődéseikről, valamint sikerről, értékekről és karrierépítésről azon az előadás-sorozaton, amelyet ELTE...
URL:https://www.alumni.elte.hu/hu/event/elte-sikerek-juhasz-arpad/2023/05/24/1092
BEGIN:VALARM
TRIGGER:-P0DT1H0M0S
ACTION:DISPLAY
END:VALARM
END:VEVENT
END:VCALENDAR